BEGIN:VCALENDAR
VERSION:2.0
PRODID:-//Central Park Swings! - ECPv6.4.0//NONSGML v1.0//EN
CALSCALE:GREGORIAN
METHOD:PUBLISH
X-ORIGINAL-URL:https://centralparkswings.com
X-WR-CALDESC:Events for Central Park Swings!
REFRESH-INTERVAL;VALUE=DURATION:PT1H
X-Robots-Tag:noindex
X-PUBLISHED-TTL:PT1H
BEGIN:VTIMEZONE
TZID:America/New_York
BEGIN:DAYLIGHT
TZOFFSETFROM:-0500
TZOFFSETTO:-0400
TZNAME:EDT
DTSTART:20230312T070000
END:DAYLIGHT
BEGIN:STANDARD
TZOFFSETFROM:-0400
TZOFFSETTO:-0500
TZNAME:EST
DTSTART:20231105T060000
END:STANDARD
END:VTIMEZONE
BEGIN:VEVENT
DTSTART;TZID=America/New_York:20230507T160000
DTEND;TZID=America/New_York:20230507T190000
DTSTAMP:20260420T030546
CREATED:20230422T223628Z
LAST-MODIFIED:20230503T022553Z
UID:434-1683475200-1683486000@centralparkswings.com
SUMMARY:Central Park Swings | Sunday May 7
DESCRIPTION:Central Park Swings will open this Season at a new location inside Central Park. Join us at King Jagiello Plaza for an afternoon of music and dancing. This location is a stunning plaza in the round adjacent to King Jagiello Monument\, which overlooks Turtle Pond and Belvedere Castle.\nBAND: Evan Hamaguchi Swing Band\nDANCE LESSON: at start\nFREE ( $10 donation suggested)\nAll our events are weather permitting. Announcements will be made on the day of if a cancellation/postponement is necessary. The King Jagiello plaza location is in collaboration with Alex Socials. \nDONATIONS ACCEPTED at event or on EVENT BRITE \n\n\nEvan Hamaguchi is a multi-talented musician known for performances on saxophone\, clarinet\, and vocals. Based in Brooklyn since 2020\, he draws inspiration from the rich traditions of New Orleans jazz\, swing\, and 1930s dance music. From childhood jam sessions in Davis\, California\, to collaborations with diverse musical artists in New York\, Evan’s lifelong study of music embraces both modern influences and classic sounds. Catch him playing in Central park\, whether you’re a swing dancer or simply a lover of good music!
URL:https://centralparkswings.com/event/central-park-swing-sunday-may-7/
LOCATION:King Jagiello Plaza\, E 79th St East Side of the Turtle Pond\,\, New York City\, NY\, 10024\, United States
ATTACH;FMTTYPE=image/jpeg:https://centralparkswings.com/wp-content/uploads/2023/04/EvanHamaguchi_JazzBand-KINGJagiello-Central-Park-Swings.jpg
ORGANIZER;CN="Jumpin Entertainment LLC":MAILTO:info@JumpinEntertainment.com
END:VEVENT
END:VCALENDAR