BEGIN:VCALENDAR
VERSION:2.0
PRODID:-//Central Park Swings! - ECPv6.4.0//NONSGML v1.0//EN
CALSCALE:GREGORIAN
METHOD:PUBLISH
X-WR-CALNAME:Central Park Swings!
X-ORIGINAL-URL:https://centralparkswings.com
X-WR-CALDESC:Events for Central Park Swings!
REFRESH-INTERVAL;VALUE=DURATION:PT1H
X-Robots-Tag:noindex
X-PUBLISHED-TTL:PT1H
BEGIN:VTIMEZONE
TZID:America/New_York
BEGIN:DAYLIGHT
TZOFFSETFROM:-0500
TZOFFSETTO:-0400
TZNAME:EDT
DTSTART:20230312T070000
END:DAYLIGHT
BEGIN:STANDARD
TZOFFSETFROM:-0400
TZOFFSETTO:-0500
TZNAME:EST
DTSTART:20231105T060000
END:STANDARD
END:VTIMEZONE
BEGIN:VEVENT
DTSTART;TZID=America/New_York:20230528T160000
DTEND;TZID=America/New_York:20230528T190000
DTSTAMP:20260420T014008
CREATED:20230422T223914Z
LAST-MODIFIED:20230526T032844Z
UID:437-1685289600-1685300400@centralparkswings.com
SUMMARY:Central Park Swings | Sunday May 28
DESCRIPTION:Central Park Swings returns to our new location inside Central Park. Join us at King Jagiello statue Plaza for an afternoon of music and dancing. This stunning plaza in the round overlooks Turtle Pond  and Belvedere Castle.\nBAND: MISS MAYBELL & THE JAZZ AGE ARTISTES\nDANCE LESSON: at start\nFREE ( $10 donation suggested)\nAll our events are weather permitting. Announcements will be made on the day of if a cancellation/postponement is necessary.\nOur King Jagiello statue plaza is a collaborative with Alex’s socials. \nTHE MUSICIAN LINE UP just confirmed as of MAY 25th\nCharlie Judkins on Piano\, Dan Levinson on Clarinet\, David Ostwald on Tuba and the Marvelous Miss Maybell on Vocals/Washboard \n“Miss Maybell plays banjo and taps her steel brushes on a tricked-out washboard. She also commands an impressive kazoo\, but the secret weapon they unleash is Maybell’s vocals — deep and strong enough to join an angel choir with the likes of Bessie Smith and Billie Holiday.”\nNew Hampshire Magazine
URL:https://centralparkswings.com/event/central-park-swings-sunday-may-28/
LOCATION:King Jagiello Plaza\, E 79th St East Side of the Turtle Pond\,\, New York City\, NY\, 10024\, United States
ATTACH;FMTTYPE=image/jpeg:https://centralparkswings.com/wp-content/uploads/2023/04/Miss-Maybell_JazzBand-KINGJagiello-BWCentral-Park-Swings.jpg
ORGANIZER;CN="Jumpin Entertainment LLC":MAILTO:info@JumpinEntertainment.com
END:VEVENT
END:VCALENDAR