BEGIN:VCALENDAR
VERSION:2.0
PRODID:-//Central Park Swings! - ECPv6.4.0//NONSGML v1.0//EN
CALSCALE:GREGORIAN
METHOD:PUBLISH
X-ORIGINAL-URL:https://centralparkswings.com
X-WR-CALDESC:Events for Central Park Swings!
REFRESH-INTERVAL;VALUE=DURATION:PT1H
X-Robots-Tag:noindex
X-PUBLISHED-TTL:PT1H
BEGIN:VTIMEZONE
TZID:America/New_York
BEGIN:DAYLIGHT
TZOFFSETFROM:-0500
TZOFFSETTO:-0400
TZNAME:EDT
DTSTART:20230312T070000
END:DAYLIGHT
BEGIN:STANDARD
TZOFFSETFROM:-0400
TZOFFSETTO:-0500
TZNAME:EST
DTSTART:20231105T060000
END:STANDARD
END:VTIMEZONE
BEGIN:VEVENT
DTSTART;TZID=America/New_York:20231012T153000
DTEND;TZID=America/New_York:20231012T183000
DTSTAMP:20260419T195615
CREATED:20230526T033528Z
LAST-MODIFIED:20231010T155101Z
UID:509-1697124600-1697135400@centralparkswings.com
SUMMARY:Central Park Swings | THURSDAY OCT 12
DESCRIPTION:Central Park Swings is at the Naumberg Bandshell THU OCT 12th for our final BANDSHELL date of the 2023 SEASON. Weather forecast is looking good for THURSDAY!\nMUSIC PROVIDED BY DJ SHUFFLE PUCK\nLIVE BAND (pending)\nPARTNER DANCE LESSONS and LINE DANCES led throughout the afternoon\nIt’s FREE and a $10 donation is suggested. weather permitting \nCentral Park Swings is a social afternoon of music & dance. Featuring Live Music and DJ’s that cater to Social Dancing. We play Jump Blues\, Swing\, Latin\, Hot Jazz and more\, 
URL:https://centralparkswings.com/event/central-park-swings-thursday-oct-12/
LOCATION:Naumburg Bandshell\, Terrace Dr. near W 72nd St\, New York\, 10019\, United States
ATTACH;FMTTYPE=image/jpeg:https://centralparkswings.com/wp-content/uploads/2022/04/CentralParkSwings_screenshot_square.jpg
ORGANIZER;CN="Jumpin Entertainment LLC":MAILTO:info@JumpinEntertainment.com
END:VEVENT
END:VCALENDAR