BEGIN:VCALENDAR
VERSION:2.0
PRODID:-//Central Park Swings! - ECPv6.4.0//NONSGML v1.0//EN
CALSCALE:GREGORIAN
METHOD:PUBLISH
X-ORIGINAL-URL:https://centralparkswings.com
X-WR-CALDESC:Events for Central Park Swings!
REFRESH-INTERVAL;VALUE=DURATION:PT1H
X-Robots-Tag:noindex
X-PUBLISHED-TTL:PT1H
BEGIN:VTIMEZONE
TZID:America/New_York
BEGIN:DAYLIGHT
TZOFFSETFROM:-0500
TZOFFSETTO:-0400
TZNAME:EDT
DTSTART:20230312T070000
END:DAYLIGHT
BEGIN:STANDARD
TZOFFSETFROM:-0400
TZOFFSETTO:-0500
TZNAME:EST
DTSTART:20231105T060000
END:STANDARD
END:VTIMEZONE
BEGIN:VEVENT
DTSTART;TZID=America/New_York:20231015T160000
DTEND;TZID=America/New_York:20231015T183000
DTSTAMP:20260419T195615
CREATED:20230924T040429Z
LAST-MODIFIED:20231014T160441Z
UID:726-1697385600-1697394600@centralparkswings.com
SUMMARY:LIVE BAND | SUN OCT 15
DESCRIPTION:Central Park Swings is ON for SUNDAY. LIVE MUSIC with UNINTENDED CONSEQUENCES plus DJ SHUFFLE PUCK.  \nWe play Jump Blues\, Swing\, Latin\, Hot Jazz and more\, Our Sunday events are held at King Jagiello Plaza. This stunning plaza in the round overlooks Turtle Pond  and Belvedere Castle. \nLIVE MUSIC: UNINTENDED CONSEQUENCES\nDANCE LESSON: at start\nFREE ( $10 donation suggested)\nAll our events are weather permitting. Announcements will be made on the day of if a cancellation/postponement is necessary.\nOur King Jagiello statue plaza is a collaborative with Alex’s socials.\nMORE DETAILS on OFFICIAL WEBSITE\nhttps://centralparkswings.com\nDONATIONS ONLINE\nUPDATE – Due to unpredictable weather\, this event can be cancelled/postponed at the last moment. Check our website and here on Facebook for last minute status
URL:https://centralparkswings.com/event/central-park-swings-sun-oct-15/
LOCATION:King Jagiello Plaza\, E 79th St East Side of the Turtle Pond\,\, New York City\, NY\, 10024\, United States
ATTACH;FMTTYPE=image/jpeg:https://centralparkswings.com/wp-content/uploads/2023/09/Sundays_OCT-15-Unintended-KINGJagiello-Central-Park-Swings.jpg
ORGANIZER;CN="Jumpin Entertainment LLC":MAILTO:info@JumpinEntertainment.com
END:VEVENT
END:VCALENDAR