BEGIN:VCALENDAR
VERSION:2.0
PRODID:-//Central Park Swings! - ECPv6.4.0//NONSGML v1.0//EN
CALSCALE:GREGORIAN
METHOD:PUBLISH
X-ORIGINAL-URL:https://centralparkswings.com
X-WR-CALDESC:Events for Central Park Swings!
REFRESH-INTERVAL;VALUE=DURATION:PT1H
X-Robots-Tag:noindex
X-PUBLISHED-TTL:PT1H
BEGIN:VTIMEZONE
TZID:America/New_York
BEGIN:DAYLIGHT
TZOFFSETFROM:-0500
TZOFFSETTO:-0400
TZNAME:EDT
DTSTART:20230312T070000
END:DAYLIGHT
BEGIN:STANDARD
TZOFFSETFROM:-0400
TZOFFSETTO:-0500
TZNAME:EST
DTSTART:20231105T060000
END:STANDARD
END:VTIMEZONE
BEGIN:VEVENT
DTSTART;TZID=America/New_York:20230618T160000
DTEND;TZID=America/New_York:20230618T190000
DTSTAMP:20260420T000743
CREATED:20230427T053608Z
LAST-MODIFIED:20230616T132815Z
UID:461-1687104000-1687114800@centralparkswings.com
SUMMARY:Central Park Swings | Sunday June 18
DESCRIPTION:SPECIAL NOTE: AERIALS / TRICKS Practice Session before the music on the GRASS by TURTLE POND from 3:15-4PM. Reply to info@JumpinEntertainment.com if you’re interested in participating (or call 646-233-3338 before Sunday). \nJoin us at King Jagiello statue Plaza for a social afternoon of music & dance. This stunning plaza in the round overlooks Turtle Pond  and Belvedere Castle.\nBAND: Matthew Piazzi & The Debonairs\nDANCE LESSON: at start\nFREE ( $10 donation suggested)\nDONATIONS: We will provide a uniquely marked TIPS container for public cash donations. ONLINE: We also have an online link which is venmo.com/lindyland \nAll our events are weather permitting. Announcements will be made on the day of if a cancellation/postponement is necessary.\nOur King Jagiello statue plaza is a collaborative with Alex’s socials.
URL:https://centralparkswings.com/event/central-park-swings-sunday-june-18/
LOCATION:King Jagiello Plaza\, E 79th St East Side of the Turtle Pond\,\, New York City\, NY\, 10024\, United States
ATTACH;FMTTYPE=image/jpeg:https://centralparkswings.com/wp-content/uploads/2023/04/PiazziDebonairs_JazzBand-KINGJagiello-Central-Park-Swings.jpg
ORGANIZER;CN="Jumpin Entertainment LLC":MAILTO:info@JumpinEntertainment.com
END:VEVENT
BEGIN:VEVENT
DTSTART;TZID=America/New_York:20230625T160000
DTEND;TZID=America/New_York:20230625T190000
DTSTAMP:20260420T000743
CREATED:20230427T054014Z
LAST-MODIFIED:20230624T143239Z
UID:464-1687708800-1687719600@centralparkswings.com
SUMMARY:Central Park Swings | Sunday June 25
DESCRIPTION:UPDATE – Due to unpredictable weather patterns this weekend\, we plan to provide DJ MUSIC on SUNDAY. Check our website and facebook invite for last minute updates confirming weather is clear enough. \nCentral Park Swings returns to our new location inside Central Park. Join us at King Jagiello statue Plaza for a social afternoon of music & dance. This stunning plaza in the round overlooks Turtle Pond  and Belvedere Castle.\nBAND: DJ ONLY (due to unpredictable weather this weekend)\nDANCE LESSON: at start\nFREE ( $10 donation suggested)\nDONATIONS: We will provide a uniquely marked TIPS container for public cash donations. ONLINE: We also have an online link which is venmo.com/lindyland \nAll our events are weather permitting. Announcements will be made on the day of if a cancellation/postponement is necessary.\nOur King Jagiello statue plaza is a collaborative with Alex’s socials.
URL:https://centralparkswings.com/event/central-park-swings-sunday-june-25/
LOCATION:King Jagiello Plaza\, E 79th St East Side of the Turtle Pond\,\, New York City\, NY\, 10024\, United States
ATTACH;FMTTYPE=image/jpeg:https://centralparkswings.com/wp-content/uploads/2023/05/Select-Sundays_JazzBand-KINGJagiello-Central-Park-Swings-1.jpg
ORGANIZER;CN="Jumpin Entertainment LLC":MAILTO:info@JumpinEntertainment.com
END:VEVENT
END:VCALENDAR