BEGIN:VCALENDAR
VERSION:2.0
PRODID:-//Central Park Swings! - ECPv6.4.0//NONSGML v1.0//EN
CALSCALE:GREGORIAN
METHOD:PUBLISH
X-WR-CALNAME:Central Park Swings!
X-ORIGINAL-URL:https://centralparkswings.com
X-WR-CALDESC:Events for Central Park Swings!
REFRESH-INTERVAL;VALUE=DURATION:PT1H
X-Robots-Tag:noindex
X-PUBLISHED-TTL:PT1H
BEGIN:VTIMEZONE
TZID:America/New_York
BEGIN:DAYLIGHT
TZOFFSETFROM:-0500
TZOFFSETTO:-0400
TZNAME:EDT
DTSTART:20230312T070000
END:DAYLIGHT
BEGIN:STANDARD
TZOFFSETFROM:-0400
TZOFFSETTO:-0500
TZNAME:EST
DTSTART:20231105T060000
END:STANDARD
END:VTIMEZONE
BEGIN:VEVENT
DTSTART;TZID=America/New_York:20230804T153000
DTEND;TZID=America/New_York:20230804T180000
DTSTAMP:20260419T211637
CREATED:20230320T003828Z
LAST-MODIFIED:20230804T022258Z
UID:371-1691163000-1691172000@centralparkswings.com
SUMMARY:CANCELLED DUE TO RAIN | Friday August 4th
DESCRIPTION:THIS EVENT on FRI AUG 4th IS CANCELLED DUE TO THREAT OF RAIN\nNothing will be presented Due to Threat of Rain. These events are Weather Permitting! \nIf you are a DJ or Band and are interested in being part of this program\, reach out to us by emailing info@JumpinEntertainment.com \n  \n 
URL:https://centralparkswings.com/event/central-park-swings-fri-aug-4/
LOCATION:Naumburg Bandshell\, Terrace Dr. near W 72nd St\, New York\, 10019\, United States
ATTACH;FMTTYPE=image/jpeg:https://centralparkswings.com/wp-content/uploads/2023/03/Pending-FRI-AUG-4-Bandshell-Central-Park-Swings.jpg
ORGANIZER;CN="Jumpin Entertainment LLC":MAILTO:info@JumpinEntertainment.com
END:VEVENT
BEGIN:VEVENT
DTSTART;TZID=America/New_York:20230806T160000
DTEND;TZID=America/New_York:20230806T190000
DTSTAMP:20260419T211637
CREATED:20230802T132937Z
LAST-MODIFIED:20230804T181009Z
UID:638-1691337600-1691348400@centralparkswings.com
SUMMARY:Central Park Swings | SUN AUG 6
DESCRIPTION:Central Park Swings continues at our new location inside Central Park. Join us at King Jagiello statue Plaza for a social afternoon of music & dance. This stunning plaza in the round overlooks Turtle Pond  and Belvedere Castle.\nDJ: ON AUG 6th\, ALEX will DEEJAY\, playing both Zydeco & Swing so be aware\, this will be a mix of music and dance  styles!  (If you are a Lindy DJ and want to be part\, contact us at info@JumpinEntertainment.com ) \nDANCE LESSON: at start\nFREE ( $10 donation suggested)\nDONATIONS: We will provide a uniquely marked TIPS container for public cash donations. ONLINE: We also have an online link which is venmo.com/lindyland \nAll our events are weather permitting. Announcements will be made on the day of if a cancellation/postponement is necessary.\nOur King Jagiello statue plaza is a collaborative with Alex’s socials.
URL:https://centralparkswings.com/event/central-park-swings-sun-aug-6/
LOCATION:King Jagiello Plaza\, E 79th St East Side of the Turtle Pond\,\, New York City\, NY\, 10024\, United States
ATTACH;FMTTYPE=image/jpeg:https://centralparkswings.com/wp-content/uploads/2023/07/Select-Sundays_DJ-KINGJagiello-Central-Park-Swings.jpg
ORGANIZER;CN="Jumpin Entertainment LLC":MAILTO:info@JumpinEntertainment.com
END:VEVENT
BEGIN:VEVENT
DTSTART;TZID=America/New_York:20230813T160000
DTEND;TZID=America/New_York:20230813T190000
DTSTAMP:20260419T211637
CREATED:20230710T141350Z
LAST-MODIFIED:20230813T003125Z
UID:612-1691942400-1691953200@centralparkswings.com
SUMMARY:Central Park Swings | DeeJay ShufflePuck
DESCRIPTION:AUG 13th features the RETURN of DEEJAY SHUFFLE PUCK fresh off his tour of EUROPE \nCentral Park Swings continues at our new location inside Central Park. Join us at King Jagiello statue Plaza for a social afternoon of music & dance. This stunning plaza in the round overlooks Turtle Pond  and Belvedere Castle.\nDEEJAY ONLY: FEATURING DJ SHUFFLE PUCK\nDANCE LESSON: at start and in the middle.\nFREE ( $10 donation suggested)\nDONATIONS: We will provide a uniquely marked TIPS container for public cash donations. ONLINE: We also have an online link which is venmo.com/lindyland \nAll our events are weather permitting. Announcements will be made on the day of if a cancellation/postponement is necessary.\nOur King Jagiello statue plaza is a collaborative with Alex’s socials.
URL:https://centralparkswings.com/event/central-park-swings-sunday-august-13/
LOCATION:King Jagiello Plaza\, E 79th St East Side of the Turtle Pond\,\, New York City\, NY\, 10024\, United States
ATTACH;FMTTYPE=image/jpeg:https://centralparkswings.com/wp-content/uploads/2023/07/SUN-AUG-13_DJ-ShufflePuck-KING-Jagiello-Central-Park-Swings.jpg
ORGANIZER;CN="Jumpin Entertainment LLC":MAILTO:info@JumpinEntertainment.com
END:VEVENT
BEGIN:VEVENT
DTSTART;TZID=America/New_York:20230820T160000
DTEND;TZID=America/New_York:20230820T190000
DTSTAMP:20260419T211637
CREATED:20230710T141523Z
LAST-MODIFIED:20230813T003035Z
UID:614-1692547200-1692558000@centralparkswings.com
SUMMARY:Central Park Swings | MISS MAYBELL & THE JAZZ ARTISTES
DESCRIPTION:MISS MAYBELL & THE JAZZ ARTISTES will be featured on AUG 20th. Central Park Swings continues at our new location inside Central Park. Join us at King Jagiello statue Plaza for a social afternoon of music & dance. This stunning plaza in the round overlooks Turtle Pond  and Belvedere Castle.\nBAND: MISS MAYBELL & THE JAZZ ARTISTES\nDANCE LESSON: at start\nFREE ( $10 donation suggested)\nDONATIONS: We will provide a uniquely marked TIPS container for public cash donations. ONLINE: We also have an online link which is venmo.com/lindyland \nAll our events are weather permitting. Announcements will be made on the day of if a cancellation/postponement is necessary.\nOur King Jagiello statue plaza is a collaborative with Alex’s socials.
URL:https://centralparkswings.com/event/central-park-swings-sunday-august-20/
LOCATION:King Jagiello Plaza\, E 79th St East Side of the Turtle Pond\,\, New York City\, NY\, 10024\, United States
ATTACH;FMTTYPE=image/jpeg:https://centralparkswings.com/wp-content/uploads/2023/07/Miss-Maybell_JazzBand-KINGJagiello-Central-Park-Swings.jpg
ORGANIZER;CN="Jumpin Entertainment LLC":MAILTO:info@JumpinEntertainment.com
END:VEVENT
BEGIN:VEVENT
DTSTART;TZID=America/New_York:20230827T160000
DTEND;TZID=America/New_York:20230827T190000
DTSTAMP:20260419T211637
CREATED:20230710T141626Z
LAST-MODIFIED:20230822T024754Z
UID:616-1693152000-1693162800@centralparkswings.com
SUMMARY:Central Park Swings | DJ SHUFFLE PUCK
DESCRIPTION:DeeJay Shuffle Puck will be featured on AUG 27th. \nCentral Park Swings continues at our new location inside Central Park. Join us at King Jagiello statue Plaza for a social afternoon of music & dance. This stunning plaza in the round overlooks Turtle Pond  and Belvedere Castle.\nBAND: TBA (announced 2-3 wks prior to date)\nDANCE LESSON: at start\nFREE ( $10 donation suggested)\nDONATIONS: We will provide a uniquely marked TIPS container for public cash donations. ONLINE: We also have an online link which is venmo.com/lindyland \nAll our events are weather permitting. Announcements will be made on the day of if a cancellation/postponement is necessary.\nOur King Jagiello statue plaza is a collaborative with Alex’s socials.
URL:https://centralparkswings.com/event/central-park-swings-sunday-august-27/
LOCATION:King Jagiello Plaza\, E 79th St East Side of the Turtle Pond\,\, New York City\, NY\, 10024\, United States
ATTACH;FMTTYPE=image/jpeg:https://centralparkswings.com/wp-content/uploads/2023/05/Select-Sundays_JazzBand-KINGJagiello-Central-Park-Swings-1.jpg
ORGANIZER;CN="Jumpin Entertainment LLC":MAILTO:info@JumpinEntertainment.com
END:VEVENT
END:VCALENDAR